BEGIN:VCALENDAR
VERSION:2.0
PRODID:-//Vrije School Peelland - ECPv6.15.20//NONSGML v1.0//EN
CALSCALE:GREGORIAN
METHOD:PUBLISH
X-ORIGINAL-URL:https://www.vrijeschoolpeelland.nl
X-WR-CALDESC:Evenementen voor Vrije School Peelland
REFRESH-INTERVAL;VALUE=DURATION:PT1H
X-Robots-Tag:noindex
X-PUBLISHED-TTL:PT1H
BEGIN:VTIMEZONE
TZID:Europe/Amsterdam
BEGIN:DAYLIGHT
TZOFFSETFROM:+0100
TZOFFSETTO:+0200
TZNAME:CEST
DTSTART:20210328T010000
END:DAYLIGHT
BEGIN:STANDARD
TZOFFSETFROM:+0200
TZOFFSETTO:+0100
TZNAME:CET
DTSTART:20211031T010000
END:STANDARD
BEGIN:DAYLIGHT
TZOFFSETFROM:+0100
TZOFFSETTO:+0200
TZNAME:CEST
DTSTART:20220327T010000
END:DAYLIGHT
BEGIN:STANDARD
TZOFFSETFROM:+0200
TZOFFSETTO:+0100
TZNAME:CET
DTSTART:20221030T010000
END:STANDARD
BEGIN:DAYLIGHT
TZOFFSETFROM:+0100
TZOFFSETTO:+0200
TZNAME:CEST
DTSTART:20230326T010000
END:DAYLIGHT
BEGIN:STANDARD
TZOFFSETFROM:+0200
TZOFFSETTO:+0100
TZNAME:CET
DTSTART:20231029T010000
END:STANDARD
BEGIN:DAYLIGHT
TZOFFSETFROM:+0100
TZOFFSETTO:+0200
TZNAME:CEST
DTSTART:20240331T010000
END:DAYLIGHT
BEGIN:STANDARD
TZOFFSETFROM:+0200
TZOFFSETTO:+0100
TZNAME:CET
DTSTART:20241027T010000
END:STANDARD
END:VTIMEZONE
BEGIN:VEVENT
DTSTART;VALUE=DATE:20221205
DTEND;VALUE=DATE:20221206
DTSTAMP:20260419T163421
CREATED:20220719T111029Z
LAST-MODIFIED:20220719T111029Z
UID:2895-1670198400-1670284799@www.vrijeschoolpeelland.nl
SUMMARY:2de Advent
DESCRIPTION:
URL:https://www.vrijeschoolpeelland.nl/event/2de-advent/
END:VEVENT
BEGIN:VEVENT
DTSTART;VALUE=DATE:20221205
DTEND;VALUE=DATE:20221206
DTSTAMP:20260419T163421
CREATED:20220719T111050Z
LAST-MODIFIED:20220719T111050Z
UID:2897-1670198400-1670284799@www.vrijeschoolpeelland.nl
SUMMARY:Sint
DESCRIPTION:
URL:https://www.vrijeschoolpeelland.nl/event/sint/
END:VEVENT
BEGIN:VEVENT
DTSTART;VALUE=DATE:20221212
DTEND;VALUE=DATE:20221213
DTSTAMP:20260419T163421
CREATED:20220719T111119Z
LAST-MODIFIED:20220719T111119Z
UID:2899-1670803200-1670889599@www.vrijeschoolpeelland.nl
SUMMARY:3de Advent
DESCRIPTION:
URL:https://www.vrijeschoolpeelland.nl/event/3de-advent/
END:VEVENT
BEGIN:VEVENT
DTSTART;TZID=Europe/Amsterdam:20221213T183000
DTEND;TZID=Europe/Amsterdam:20221213T191500
DTSTAMP:20260419T163421
CREATED:20220719T111153Z
LAST-MODIFIED:20220926T070128Z
UID:2901-1670956200-1670958900@www.vrijeschoolpeelland.nl
SUMMARY:Paradijsspel
DESCRIPTION:Paradijsspel van 18.30 tot 19.15 uur (zaal open 18.25 uur)
URL:https://www.vrijeschoolpeelland.nl/event/paradijsspel-2/
END:VEVENT
BEGIN:VEVENT
DTSTART;VALUE=DATE:20221219
DTEND;VALUE=DATE:20221220
DTSTAMP:20260419T163421
CREATED:20220719T111245Z
LAST-MODIFIED:20220719T111245Z
UID:2903-1671408000-1671494399@www.vrijeschoolpeelland.nl
SUMMARY:4de Advent
DESCRIPTION:
URL:https://www.vrijeschoolpeelland.nl/event/4de-advent/
END:VEVENT
BEGIN:VEVENT
DTSTART;VALUE=DATE:20221221
DTEND;VALUE=DATE:20221222
DTSTAMP:20260419T163421
CREATED:20220719T111329Z
LAST-MODIFIED:20221207T114726Z
UID:2905-1671580800-1671667199@www.vrijeschoolpeelland.nl
SUMMARY:Kleuterkerstspel\, 17.00 uur
DESCRIPTION:
URL:https://www.vrijeschoolpeelland.nl/event/kleuterkerstspel/
END:VEVENT
BEGIN:VEVENT
DTSTART;VALUE=DATE:20221222
DTEND;VALUE=DATE:20221223
DTSTAMP:20260419T163421
CREATED:20220719T111431Z
LAST-MODIFIED:20221207T073937Z
UID:2907-1671667200-1671753599@www.vrijeschoolpeelland.nl
SUMMARY:Kerstviering\, middag vrij / Kerstspel (17.00 en 19.00 uur)
DESCRIPTION:Kerstspel 22-12 van 17.00 (zaal open 16.55 uur) tot 18.00\nen van 19.00 (zaal open 18.55 uur) tot 20.00 uur.
URL:https://www.vrijeschoolpeelland.nl/event/kerstspel-en-kerstviering-middag-vrij/
END:VEVENT
BEGIN:VEVENT
DTSTART;VALUE=DATE:20221222
DTEND;VALUE=DATE:20221223
DTSTAMP:20260419T163421
CREATED:20221207T074220Z
LAST-MODIFIED:20221207T074330Z
UID:3218-1671667200-1671753599@www.vrijeschoolpeelland.nl
SUMMARY:Kerstspel 17.00 uur en 19.00 uur
DESCRIPTION:Kerstspel 22-12 van 17.00 (zaal open 16.55 uur) tot 18.00\nen van 19.00 (zaal open 18.55 uur) tot 20.00 uur.
URL:https://www.vrijeschoolpeelland.nl/event/kerstspel-17-00-uur-en-19-00-uur/
END:VEVENT
BEGIN:VEVENT
DTSTART;VALUE=DATE:20221223
DTEND;VALUE=DATE:20221224
DTSTAMP:20260419T163421
CREATED:20220719T111514Z
LAST-MODIFIED:20220719T111514Z
UID:2909-1671753600-1671839999@www.vrijeschoolpeelland.nl
SUMMARY:Kerstvrij
DESCRIPTION:
URL:https://www.vrijeschoolpeelland.nl/event/kerstvrij-2/
END:VEVENT
BEGIN:VEVENT
DTSTART;VALUE=DATE:20221226
DTEND;VALUE=DATE:20230107
DTSTAMP:20260419T163421
CREATED:20220623T135444Z
LAST-MODIFIED:20220623T135444Z
UID:2812-1672012800-1673049599@www.vrijeschoolpeelland.nl
SUMMARY:Kerstvakantie
DESCRIPTION:
URL:https://www.vrijeschoolpeelland.nl/event/kerstvakantie/
END:VEVENT
END:VCALENDAR