BEGIN:VCALENDAR
VERSION:2.0
PRODID:-//Vrije School Peelland - ECPv6.15.20//NONSGML v1.0//EN
CALSCALE:GREGORIAN
METHOD:PUBLISH
X-WR-CALNAME:Vrije School Peelland
X-ORIGINAL-URL:https://www.vrijeschoolpeelland.nl
X-WR-CALDESC:Evenementen voor Vrije School Peelland
REFRESH-INTERVAL;VALUE=DURATION:PT1H
X-Robots-Tag:noindex
X-PUBLISHED-TTL:PT1H
BEGIN:VTIMEZONE
TZID:Europe/Amsterdam
BEGIN:DAYLIGHT
TZOFFSETFROM:+0100
TZOFFSETTO:+0200
TZNAME:CEST
DTSTART:20220327T010000
END:DAYLIGHT
BEGIN:STANDARD
TZOFFSETFROM:+0200
TZOFFSETTO:+0100
TZNAME:CET
DTSTART:20221030T010000
END:STANDARD
BEGIN:DAYLIGHT
TZOFFSETFROM:+0100
TZOFFSETTO:+0200
TZNAME:CEST
DTSTART:20230326T010000
END:DAYLIGHT
BEGIN:STANDARD
TZOFFSETFROM:+0200
TZOFFSETTO:+0100
TZNAME:CET
DTSTART:20231029T010000
END:STANDARD
BEGIN:DAYLIGHT
TZOFFSETFROM:+0100
TZOFFSETTO:+0200
TZNAME:CEST
DTSTART:20240331T010000
END:DAYLIGHT
BEGIN:STANDARD
TZOFFSETFROM:+0200
TZOFFSETTO:+0100
TZNAME:CET
DTSTART:20241027T010000
END:STANDARD
END:VTIMEZONE
BEGIN:VEVENT
DTSTART;TZID=Europe/Amsterdam:20230306T084500
DTEND;TZID=Europe/Amsterdam:20230306T100000
DTSTAMP:20260419T171109
CREATED:20220719T112503Z
LAST-MODIFIED:20230216T132542Z
UID:2935-1678092300-1678096800@www.vrijeschoolpeelland.nl
SUMMARY:Luizencontrole
DESCRIPTION:
URL:https://www.vrijeschoolpeelland.nl/event/luizencontrole-3/
END:VEVENT
BEGIN:VEVENT
DTSTART;TZID=Europe/Amsterdam:20230313T193000
DTEND;TZID=Europe/Amsterdam:20230313T213000
DTSTAMP:20260419T171109
CREATED:20220719T112631Z
LAST-MODIFIED:20230216T132337Z
UID:2939-1678735800-1678743000@www.vrijeschoolpeelland.nl
SUMMARY:MR bijeenkomst
DESCRIPTION:
URL:https://www.vrijeschoolpeelland.nl/event/mr-bijeenkomst-4/
END:VEVENT
BEGIN:VEVENT
DTSTART;VALUE=DATE:20230315
DTEND;VALUE=DATE:20230316
DTSTAMP:20260419T171109
CREATED:20220719T112718Z
LAST-MODIFIED:20220719T112718Z
UID:2941-1678838400-1678924799@www.vrijeschoolpeelland.nl
SUMMARY:Pallasdag\, alle kinderen vrij
DESCRIPTION:
URL:https://www.vrijeschoolpeelland.nl/event/pallasdag-alle-kinderen-vrij/
END:VEVENT
BEGIN:VEVENT
DTSTART;TZID=Europe/Amsterdam:20230320T200000
DTEND;TZID=Europe/Amsterdam:20230320T220000
DTSTAMP:20260419T171109
CREATED:20220719T112837Z
LAST-MODIFIED:20230216T132850Z
UID:2945-1679342400-1679349600@www.vrijeschoolpeelland.nl
SUMMARY:Ouderavond groep 5
DESCRIPTION:
URL:https://www.vrijeschoolpeelland.nl/event/ouderavond-groep-5-3/
END:VEVENT
BEGIN:VEVENT
DTSTART;TZID=Europe/Amsterdam:20230322T093000
DTEND;TZID=Europe/Amsterdam:20230322T110000
DTSTAMP:20260419T171109
CREATED:20220719T112749Z
LAST-MODIFIED:20221116T090527Z
UID:2943-1679477400-1679482800@www.vrijeschoolpeelland.nl
SUMMARY:Probeerspeelochtend\, 9.30 - 11.00 uur
DESCRIPTION:Kom lekker spelen\, sfeerproeven en broodjes bakken tijdens de probeer- speelochtend\, met je kind(eren) van 0-4 jaar. Onder leiding van een leidster en onder het genot van een kopje koffie of thee kun je samen met je kind komen spelen\, bakken en als afsluiting een kringspelletje doen\, terwijl je andere ouders met jonge kinderen ontmoet. Past de sfeer bij jou en je kind? Kom dan gerust de andere speelochtenden ook! We zien uit naar jullie komst.\nDeelname is gratis; meld je vooraf aan via 0492-547628 of www.vrijeschoolpeelland.nl
URL:https://www.vrijeschoolpeelland.nl/event/probeerspeelochtend-4/
END:VEVENT
BEGIN:VEVENT
DTSTART;VALUE=DATE:20230327
DTEND;VALUE=DATE:20230328
DTSTAMP:20260419T171109
CREATED:20220719T112910Z
LAST-MODIFIED:20220719T112910Z
UID:2947-1679875200-1679961599@www.vrijeschoolpeelland.nl
SUMMARY:Ouderavond kleuters
DESCRIPTION:
URL:https://www.vrijeschoolpeelland.nl/event/ouderavond-kleuters-2/
END:VEVENT
BEGIN:VEVENT
DTSTART;TZID=Europe/Amsterdam:20230329T123000
DTEND;TZID=Europe/Amsterdam:20230329T170000
DTSTAMP:20260419T171109
CREATED:20220719T112951Z
LAST-MODIFIED:20221010T114038Z
UID:2949-1680093000-1680109200@www.vrijeschoolpeelland.nl
SUMMARY:Studiemiddag
DESCRIPTION:
URL:https://www.vrijeschoolpeelland.nl/event/studiemiddag-4/
END:VEVENT
END:VCALENDAR