BEGIN:VCALENDAR
VERSION:2.0
PRODID:-//Vrije School Peelland - ECPv6.15.20//NONSGML v1.0//EN
CALSCALE:GREGORIAN
METHOD:PUBLISH
X-WR-CALNAME:Vrije School Peelland
X-ORIGINAL-URL:https://www.vrijeschoolpeelland.nl
X-WR-CALDESC:Evenementen voor Vrije School Peelland
REFRESH-INTERVAL;VALUE=DURATION:PT1H
X-Robots-Tag:noindex
X-PUBLISHED-TTL:PT1H
BEGIN:VTIMEZONE
TZID:Europe/Amsterdam
BEGIN:DAYLIGHT
TZOFFSETFROM:+0100
TZOFFSETTO:+0200
TZNAME:CEST
DTSTART:20240331T010000
END:DAYLIGHT
BEGIN:STANDARD
TZOFFSETFROM:+0200
TZOFFSETTO:+0100
TZNAME:CET
DTSTART:20241027T010000
END:STANDARD
BEGIN:DAYLIGHT
TZOFFSETFROM:+0100
TZOFFSETTO:+0200
TZNAME:CEST
DTSTART:20250330T010000
END:DAYLIGHT
BEGIN:STANDARD
TZOFFSETFROM:+0200
TZOFFSETTO:+0100
TZNAME:CET
DTSTART:20251026T010000
END:STANDARD
BEGIN:DAYLIGHT
TZOFFSETFROM:+0100
TZOFFSETTO:+0200
TZNAME:CEST
DTSTART:20260329T010000
END:DAYLIGHT
BEGIN:STANDARD
TZOFFSETFROM:+0200
TZOFFSETTO:+0100
TZNAME:CET
DTSTART:20261025T010000
END:STANDARD
END:VTIMEZONE
BEGIN:VEVENT
DTSTART;VALUE=DATE:20250602
DTEND;VALUE=DATE:20250606
DTSTAMP:20260422T015530
CREATED:20240829T134329Z
LAST-MODIFIED:20240904T092143Z
UID:4060-1748822400-1749167999@www.vrijeschoolpeelland.nl
SUMMARY:Kamp groep 8
DESCRIPTION:
URL:https://www.vrijeschoolpeelland.nl/event/kamp-groep-8-2/
END:VEVENT
BEGIN:VEVENT
DTSTART;VALUE=DATE:20250606
DTEND;VALUE=DATE:20250607
DTSTAMP:20260422T015530
CREATED:20240829T134411Z
LAST-MODIFIED:20240829T134411Z
UID:4062-1749168000-1749254399@www.vrijeschoolpeelland.nl
SUMMARY:Pinksterfeest
DESCRIPTION:
URL:https://www.vrijeschoolpeelland.nl/event/pinksterfeest-2/
END:VEVENT
BEGIN:VEVENT
DTSTART;VALUE=DATE:20250609
DTEND;VALUE=DATE:20250610
DTSTAMP:20260422T015530
CREATED:20240131T111308Z
LAST-MODIFIED:20240131T111308Z
UID:3787-1749427200-1749513599@www.vrijeschoolpeelland.nl
SUMMARY:2e Pinksterdag
DESCRIPTION:
URL:https://www.vrijeschoolpeelland.nl/event/2e-pinksterdag/
END:VEVENT
BEGIN:VEVENT
DTSTART;VALUE=DATE:20250611
DTEND;VALUE=DATE:20250614
DTSTAMP:20260422T015530
CREATED:20240829T134452Z
LAST-MODIFIED:20240902T101800Z
UID:4064-1749600000-1749859199@www.vrijeschoolpeelland.nl
SUMMARY:Kamp groep 7
DESCRIPTION:
URL:https://www.vrijeschoolpeelland.nl/event/kamp-groep-7-4/
END:VEVENT
BEGIN:VEVENT
DTSTART;VALUE=DATE:20250616
DTEND;VALUE=DATE:20250617
DTSTAMP:20260422T015530
CREATED:20240829T134525Z
LAST-MODIFIED:20240829T134525Z
UID:4066-1750032000-1750118399@www.vrijeschoolpeelland.nl
SUMMARY:MR-bijeenkomst
DESCRIPTION:
URL:https://www.vrijeschoolpeelland.nl/event/mr-bijeenkomst-24/
END:VEVENT
BEGIN:VEVENT
DTSTART;TZID=Europe/Amsterdam:20250617T200000
DTEND;TZID=Europe/Amsterdam:20250617T210000
DTSTAMP:20260422T015530
CREATED:20250611T102334Z
LAST-MODIFIED:20250611T102334Z
UID:4241-1750190400-1750194000@www.vrijeschoolpeelland.nl
SUMMARY:Ouderavond nieuwe groep 3\, 20.00 - 21.00 uur
DESCRIPTION:
URL:https://www.vrijeschoolpeelland.nl/event/ouderavond-nieuwe-groep-3-20-00-21-00-uur/
END:VEVENT
BEGIN:VEVENT
DTSTART;VALUE=DATE:20250618
DTEND;VALUE=DATE:20250619
DTSTAMP:20260422T015530
CREATED:20240829T134606Z
LAST-MODIFIED:20240829T134606Z
UID:4068-1750204800-1750291199@www.vrijeschoolpeelland.nl
SUMMARY:Bosreis oudste kleuters
DESCRIPTION:
URL:https://www.vrijeschoolpeelland.nl/event/bosreis-oudste-kleuters/
END:VEVENT
BEGIN:VEVENT
DTSTART;VALUE=DATE:20250624
DTEND;VALUE=DATE:20250625
DTSTAMP:20260422T015530
CREATED:20240829T134645Z
LAST-MODIFIED:20240829T134645Z
UID:4070-1750723200-1750809599@www.vrijeschoolpeelland.nl
SUMMARY:Sint Jan\, korte dag + avond
DESCRIPTION:
URL:https://www.vrijeschoolpeelland.nl/event/sint-jan-korte-dag-avond/
END:VEVENT
BEGIN:VEVENT
DTSTART;VALUE=DATE:20250625
DTEND;VALUE=DATE:20250626
DTSTAMP:20260422T015530
CREATED:20240829T134718Z
LAST-MODIFIED:20240829T134718Z
UID:4072-1750809600-1750895999@www.vrijeschoolpeelland.nl
SUMMARY:Studiedag\, alle kinderen vrij
DESCRIPTION:
URL:https://www.vrijeschoolpeelland.nl/event/studiedag-alle-kinderen-vrij-15/
END:VEVENT
END:VCALENDAR