BEGIN:VCALENDAR
VERSION:2.0
PRODID:-//Vrije School Peelland - ECPv6.15.20//NONSGML v1.0//EN
CALSCALE:GREGORIAN
METHOD:PUBLISH
X-ORIGINAL-URL:https://www.vrijeschoolpeelland.nl
X-WR-CALDESC:Evenementen voor Vrije School Peelland
REFRESH-INTERVAL;VALUE=DURATION:PT1H
X-Robots-Tag:noindex
X-PUBLISHED-TTL:PT1H
BEGIN:VTIMEZONE
TZID:Europe/Amsterdam
BEGIN:DAYLIGHT
TZOFFSETFROM:+0100
TZOFFSETTO:+0200
TZNAME:CEST
DTSTART:20240331T010000
END:DAYLIGHT
BEGIN:STANDARD
TZOFFSETFROM:+0200
TZOFFSETTO:+0100
TZNAME:CET
DTSTART:20241027T010000
END:STANDARD
BEGIN:DAYLIGHT
TZOFFSETFROM:+0100
TZOFFSETTO:+0200
TZNAME:CEST
DTSTART:20250330T010000
END:DAYLIGHT
BEGIN:STANDARD
TZOFFSETFROM:+0200
TZOFFSETTO:+0100
TZNAME:CET
DTSTART:20251026T010000
END:STANDARD
BEGIN:DAYLIGHT
TZOFFSETFROM:+0100
TZOFFSETTO:+0200
TZNAME:CEST
DTSTART:20260329T010000
END:DAYLIGHT
BEGIN:STANDARD
TZOFFSETFROM:+0200
TZOFFSETTO:+0100
TZNAME:CET
DTSTART:20261025T010000
END:STANDARD
END:VTIMEZONE
BEGIN:VEVENT
DTSTART;VALUE=DATE:20250908
DTEND;VALUE=DATE:20250909
DTSTAMP:20260421T203852
CREATED:20250813T075910Z
LAST-MODIFIED:20250813T075910Z
UID:4275-1757289600-1757375999@www.vrijeschoolpeelland.nl
SUMMARY:Ouderavond kleuters - 20.00 uur
DESCRIPTION:
URL:https://www.vrijeschoolpeelland.nl/event/ouderavond-kleuters-20-00-uur-3/
END:VEVENT
BEGIN:VEVENT
DTSTART;VALUE=DATE:20250909
DTEND;VALUE=DATE:20250910
DTSTAMP:20260421T203852
CREATED:20250818T080233Z
LAST-MODIFIED:20250818T080233Z
UID:4402-1757376000-1757462399@www.vrijeschoolpeelland.nl
SUMMARY:Ouderavond groep 7 - 20.00 uur
DESCRIPTION:
URL:https://www.vrijeschoolpeelland.nl/event/ouderavond-groep-7-20-00-uur-3/
END:VEVENT
BEGIN:VEVENT
DTSTART;VALUE=DATE:20250911
DTEND;VALUE=DATE:20250912
DTSTAMP:20260421T203852
CREATED:20250818T080315Z
LAST-MODIFIED:20250818T080315Z
UID:4404-1757548800-1757635199@www.vrijeschoolpeelland.nl
SUMMARY:Ouderavond groep 6 - 20.00 uur
DESCRIPTION:
URL:https://www.vrijeschoolpeelland.nl/event/ouderavond-groep-6-20-00-uur/
END:VEVENT
BEGIN:VEVENT
DTSTART;VALUE=DATE:20250915
DTEND;VALUE=DATE:20250916
DTSTAMP:20260421T203852
CREATED:20250818T080356Z
LAST-MODIFIED:20250818T080356Z
UID:4406-1757894400-1757980799@www.vrijeschoolpeelland.nl
SUMMARY:GMR
DESCRIPTION:
URL:https://www.vrijeschoolpeelland.nl/event/gmr-7/
END:VEVENT
BEGIN:VEVENT
DTSTART;VALUE=DATE:20250916
DTEND;VALUE=DATE:20250917
DTSTAMP:20260421T203852
CREATED:20250818T080515Z
LAST-MODIFIED:20250821T091757Z
UID:4410-1757980800-1758067199@www.vrijeschoolpeelland.nl
SUMMARY:Ouderavond groep 4 - 19:30 uur
DESCRIPTION:
URL:https://www.vrijeschoolpeelland.nl/event/ouderavond-groep-4-20-00-uur-3/
END:VEVENT
BEGIN:VEVENT
DTSTART;VALUE=DATE:20250922
DTEND;VALUE=DATE:20250923
DTSTAMP:20260421T203852
CREATED:20250813T080000Z
LAST-MODIFIED:20250813T080000Z
UID:4277-1758499200-1758585599@www.vrijeschoolpeelland.nl
SUMMARY:MR bijeenkomst - 19.30 uur
DESCRIPTION:
URL:https://www.vrijeschoolpeelland.nl/event/mr-bijeenkomst-19-30-uur/
END:VEVENT
BEGIN:VEVENT
DTSTART;VALUE=DATE:20250929
DTEND;VALUE=DATE:20250930
DTSTAMP:20260421T203852
CREATED:20250813T080053Z
LAST-MODIFIED:20250813T080053Z
UID:4279-1759104000-1759190399@www.vrijeschoolpeelland.nl
SUMMARY:Michaelfeest
DESCRIPTION:
URL:https://www.vrijeschoolpeelland.nl/event/michaelfeest-3/
END:VEVENT
BEGIN:VEVENT
DTSTART;VALUE=DATE:20250929
DTEND;VALUE=DATE:20250930
DTSTAMP:20260421T203852
CREATED:20250813T080247Z
LAST-MODIFIED:20250813T095321Z
UID:4285-1759104000-1759190399@www.vrijeschoolpeelland.nl
SUMMARY:Kleuter oudergesprekken - deze week
DESCRIPTION:
URL:https://www.vrijeschoolpeelland.nl/event/kleuter-oudergesprekken/
END:VEVENT
END:VCALENDAR