BEGIN:VCALENDAR
VERSION:2.0
PRODID:-//Vrije School Peelland - ECPv6.15.20//NONSGML v1.0//EN
CALSCALE:GREGORIAN
METHOD:PUBLISH
X-WR-CALNAME:Vrije School Peelland
X-ORIGINAL-URL:https://www.vrijeschoolpeelland.nl
X-WR-CALDESC:Evenementen voor Vrije School Peelland
REFRESH-INTERVAL;VALUE=DURATION:PT1H
X-Robots-Tag:noindex
X-PUBLISHED-TTL:PT1H
BEGIN:VTIMEZONE
TZID:Europe/Amsterdam
BEGIN:DAYLIGHT
TZOFFSETFROM:+0100
TZOFFSETTO:+0200
TZNAME:CEST
DTSTART:20240331T010000
END:DAYLIGHT
BEGIN:STANDARD
TZOFFSETFROM:+0200
TZOFFSETTO:+0100
TZNAME:CET
DTSTART:20241027T010000
END:STANDARD
BEGIN:DAYLIGHT
TZOFFSETFROM:+0100
TZOFFSETTO:+0200
TZNAME:CEST
DTSTART:20250330T010000
END:DAYLIGHT
BEGIN:STANDARD
TZOFFSETFROM:+0200
TZOFFSETTO:+0100
TZNAME:CET
DTSTART:20251026T010000
END:STANDARD
BEGIN:DAYLIGHT
TZOFFSETFROM:+0100
TZOFFSETTO:+0200
TZNAME:CEST
DTSTART:20260329T010000
END:DAYLIGHT
BEGIN:STANDARD
TZOFFSETFROM:+0200
TZOFFSETTO:+0100
TZNAME:CET
DTSTART:20261025T010000
END:STANDARD
END:VTIMEZONE
BEGIN:VEVENT
DTSTART;VALUE=DATE:20251001
DTEND;VALUE=DATE:20251002
DTSTAMP:20260421T190037
CREATED:20250813T080208Z
LAST-MODIFIED:20250813T092853Z
UID:4283-1759276800-1759363199@www.vrijeschoolpeelland.nl
SUMMARY:Lezing - 20.00 uur
DESCRIPTION:
URL:https://www.vrijeschoolpeelland.nl/event/lezing-20-00-uur/
END:VEVENT
BEGIN:VEVENT
DTSTART;VALUE=DATE:20251001
DTEND;VALUE=DATE:20251002
DTSTAMP:20260421T190037
CREATED:20250813T080137Z
LAST-MODIFIED:20250813T092808Z
UID:4281-1759276800-1759363199@www.vrijeschoolpeelland.nl
SUMMARY:Start Kinderboekenweek
DESCRIPTION:
URL:https://www.vrijeschoolpeelland.nl/event/start-kinderboekenweek-3/
END:VEVENT
BEGIN:VEVENT
DTSTART;VALUE=DATE:20251006
DTEND;VALUE=DATE:20251007
DTSTAMP:20260421T190037
CREATED:20250813T080322Z
LAST-MODIFIED:20250813T095424Z
UID:4287-1759708800-1759795199@www.vrijeschoolpeelland.nl
SUMMARY:Kleuter oudergesprekken - deze week
DESCRIPTION:
URL:https://www.vrijeschoolpeelland.nl/event/kleuter-oudergesprekken-2/
END:VEVENT
BEGIN:VEVENT
DTSTART;VALUE=DATE:20251013
DTEND;VALUE=DATE:20251020
DTSTAMP:20260421T190037
CREATED:20250813T093127Z
LAST-MODIFIED:20250813T094036Z
UID:4366-1760313600-1760918399@www.vrijeschoolpeelland.nl
SUMMARY:Herfstvakantie
DESCRIPTION:
URL:https://www.vrijeschoolpeelland.nl/event/herfstvakantie-4/
END:VEVENT
BEGIN:VEVENT
DTSTART;VALUE=DATE:20251023
DTEND;VALUE=DATE:20251024
DTSTAMP:20260421T190037
CREATED:20250818T071721Z
LAST-MODIFIED:20250818T071721Z
UID:4396-1761177600-1761263999@www.vrijeschoolpeelland.nl
SUMMARY:Ouderavond groep 3 - 20.00 uur
DESCRIPTION:
URL:https://www.vrijeschoolpeelland.nl/event/ouderavond-groep-3-20-00-uur-3/
END:VEVENT
BEGIN:VEVENT
DTSTART;VALUE=DATE:20251027
DTEND;VALUE=DATE:20251028
DTSTAMP:20260421T190037
CREATED:20250813T080400Z
LAST-MODIFIED:20250813T080400Z
UID:4289-1761523200-1761609599@www.vrijeschoolpeelland.nl
SUMMARY:Ouderavond groep 5 - 20.00 uur
DESCRIPTION:
URL:https://www.vrijeschoolpeelland.nl/event/ouderavond-groep-5-20-00-uur-3/
END:VEVENT
BEGIN:VEVENT
DTSTART;VALUE=DATE:20251027
DTEND;VALUE=DATE:20251028
DTSTAMP:20260421T190037
CREATED:20250818T080434Z
LAST-MODIFIED:20250818T080434Z
UID:4408-1761523200-1761609599@www.vrijeschoolpeelland.nl
SUMMARY:GMR
DESCRIPTION:
URL:https://www.vrijeschoolpeelland.nl/event/gmr-8/
END:VEVENT
BEGIN:VEVENT
DTSTART;VALUE=DATE:20251027
DTEND;VALUE=DATE:20251028
DTSTAMP:20260421T190037
CREATED:20250818T095311Z
LAST-MODIFIED:20250818T095311Z
UID:4435-1761523200-1761609599@www.vrijeschoolpeelland.nl
SUMMARY:Luizencontrole
DESCRIPTION:
URL:https://www.vrijeschoolpeelland.nl/event/luizencontrole-22/
END:VEVENT
END:VCALENDAR