BEGIN:VCALENDAR
VERSION:2.0
PRODID:-//Vrije School Peelland - ECPv6.15.20//NONSGML v1.0//EN
CALSCALE:GREGORIAN
METHOD:PUBLISH
X-ORIGINAL-URL:https://www.vrijeschoolpeelland.nl
X-WR-CALDESC:Evenementen voor Vrije School Peelland
REFRESH-INTERVAL;VALUE=DURATION:PT1H
X-Robots-Tag:noindex
X-PUBLISHED-TTL:PT1H
BEGIN:VTIMEZONE
TZID:Europe/Amsterdam
BEGIN:DAYLIGHT
TZOFFSETFROM:+0100
TZOFFSETTO:+0200
TZNAME:CEST
DTSTART:20250330T010000
END:DAYLIGHT
BEGIN:STANDARD
TZOFFSETFROM:+0200
TZOFFSETTO:+0100
TZNAME:CET
DTSTART:20251026T010000
END:STANDARD
BEGIN:DAYLIGHT
TZOFFSETFROM:+0100
TZOFFSETTO:+0200
TZNAME:CEST
DTSTART:20260329T010000
END:DAYLIGHT
BEGIN:STANDARD
TZOFFSETFROM:+0200
TZOFFSETTO:+0100
TZNAME:CET
DTSTART:20261025T010000
END:STANDARD
BEGIN:DAYLIGHT
TZOFFSETFROM:+0100
TZOFFSETTO:+0200
TZNAME:CEST
DTSTART:20270328T010000
END:DAYLIGHT
BEGIN:STANDARD
TZOFFSETFROM:+0200
TZOFFSETTO:+0100
TZNAME:CET
DTSTART:20271031T010000
END:STANDARD
END:VTIMEZONE
BEGIN:VEVENT
DTSTART;VALUE=DATE:20260203
DTEND;VALUE=DATE:20260205
DTSTAMP:20260421T120149
CREATED:20250813T081524Z
LAST-MODIFIED:20250813T081524Z
UID:4315-1770076800-1770249599@www.vrijeschoolpeelland.nl
SUMMARY:IEP eindtoets groep 8
DESCRIPTION:
URL:https://www.vrijeschoolpeelland.nl/event/iep-eindtoets-groep-8-2/
END:VEVENT
BEGIN:VEVENT
DTSTART;VALUE=DATE:20260209
DTEND;VALUE=DATE:20260210
DTSTAMP:20260421T120149
CREATED:20250818T082534Z
LAST-MODIFIED:20250818T082534Z
UID:4419-1770595200-1770681599@www.vrijeschoolpeelland.nl
SUMMARY:GMR
DESCRIPTION:
URL:https://www.vrijeschoolpeelland.nl/event/gmr-10/
END:VEVENT
BEGIN:VEVENT
DTSTART;VALUE=DATE:20260213
DTEND;VALUE=DATE:20260214
DTSTAMP:20260421T120149
CREATED:20250813T081921Z
LAST-MODIFIED:20250813T081921Z
UID:4322-1770940800-1771027199@www.vrijeschoolpeelland.nl
SUMMARY:Carnaval\, school 12.30 uur uit
DESCRIPTION:
URL:https://www.vrijeschoolpeelland.nl/event/carnaval-school-12-30-uur-uit-2/
END:VEVENT
BEGIN:VEVENT
DTSTART;VALUE=DATE:20260216
DTEND;VALUE=DATE:20260223
DTSTAMP:20260421T120149
CREATED:20250813T093404Z
LAST-MODIFIED:20250813T094219Z
UID:4374-1771200000-1771804799@www.vrijeschoolpeelland.nl
SUMMARY:Voorjaarsvakantie
DESCRIPTION:
URL:https://www.vrijeschoolpeelland.nl/event/voorjaarsvakantie-5/
END:VEVENT
BEGIN:VEVENT
DTSTART;VALUE=DATE:20260223
DTEND;VALUE=DATE:20260224
DTSTAMP:20260421T120149
CREATED:20250813T081659Z
LAST-MODIFIED:20250818T082625Z
UID:4319-1771804800-1771891199@www.vrijeschoolpeelland.nl
SUMMARY:Oudergesprekken - deze week
DESCRIPTION:
URL:https://www.vrijeschoolpeelland.nl/event/oudergesprekken-deze-week/
END:VEVENT
BEGIN:VEVENT
DTSTART;TZID=Europe/Amsterdam:20260226T200000
DTEND;TZID=Europe/Amsterdam:20260226T213000
DTSTAMP:20260421T120149
CREATED:20260126T083112Z
LAST-MODIFIED:20260126T083112Z
UID:4560-1772136000-1772141400@www.vrijeschoolpeelland.nl
SUMMARY:Lezing
DESCRIPTION:
URL:https://www.vrijeschoolpeelland.nl/event/lezing/
END:VEVENT
END:VCALENDAR