BEGIN:VCALENDAR
VERSION:2.0
PRODID:-//Vrije School Peelland - ECPv6.15.20//NONSGML v1.0//EN
CALSCALE:GREGORIAN
METHOD:PUBLISH
X-WR-CALNAME:Vrije School Peelland
X-ORIGINAL-URL:https://www.vrijeschoolpeelland.nl
X-WR-CALDESC:Evenementen voor Vrije School Peelland
REFRESH-INTERVAL;VALUE=DURATION:PT1H
X-Robots-Tag:noindex
X-PUBLISHED-TTL:PT1H
BEGIN:VTIMEZONE
TZID:Europe/Amsterdam
BEGIN:DAYLIGHT
TZOFFSETFROM:+0100
TZOFFSETTO:+0200
TZNAME:CEST
DTSTART:20250330T010000
END:DAYLIGHT
BEGIN:STANDARD
TZOFFSETFROM:+0200
TZOFFSETTO:+0100
TZNAME:CET
DTSTART:20251026T010000
END:STANDARD
BEGIN:DAYLIGHT
TZOFFSETFROM:+0100
TZOFFSETTO:+0200
TZNAME:CEST
DTSTART:20260329T010000
END:DAYLIGHT
BEGIN:STANDARD
TZOFFSETFROM:+0200
TZOFFSETTO:+0100
TZNAME:CET
DTSTART:20261025T010000
END:STANDARD
BEGIN:DAYLIGHT
TZOFFSETFROM:+0100
TZOFFSETTO:+0200
TZNAME:CEST
DTSTART:20270328T010000
END:DAYLIGHT
BEGIN:STANDARD
TZOFFSETFROM:+0200
TZOFFSETTO:+0100
TZNAME:CET
DTSTART:20271031T010000
END:STANDARD
END:VTIMEZONE
BEGIN:VEVENT
DTSTART;VALUE=DATE:20260701
DTEND;VALUE=DATE:20260702
DTSTAMP:20260421T133813
CREATED:20250813T091931Z
LAST-MODIFIED:20250813T091931Z
UID:4360-1782864000-1782950399@www.vrijeschoolpeelland.nl
SUMMARY:Bosreisje oudste kleuters
DESCRIPTION:
URL:https://www.vrijeschoolpeelland.nl/event/bosreisje-oudste-kleuters/
END:VEVENT
BEGIN:VEVENT
DTSTART;VALUE=DATE:20260709
DTEND;VALUE=DATE:20260710
DTSTAMP:20260421T133813
CREATED:20250813T092008Z
LAST-MODIFIED:20250813T092008Z
UID:4362-1783555200-1783641599@www.vrijeschoolpeelland.nl
SUMMARY:Afscheid kleuters
DESCRIPTION:
URL:https://www.vrijeschoolpeelland.nl/event/afscheid-kleuters-2/
END:VEVENT
BEGIN:VEVENT
DTSTART;VALUE=DATE:20260710
DTEND;VALUE=DATE:20260711
DTSTAMP:20260421T133813
CREATED:20250813T092300Z
LAST-MODIFIED:20250813T092300Z
UID:4364-1783641600-1783727999@www.vrijeschoolpeelland.nl
SUMMARY:Getuigschriftenuitreiking\, school 12.30 uur uit
DESCRIPTION:
URL:https://www.vrijeschoolpeelland.nl/event/getuigschriftenuitreiking-school-12-30-uur-uit/
END:VEVENT
BEGIN:VEVENT
DTSTART;VALUE=DATE:20260713
DTEND;VALUE=DATE:20260824
DTSTAMP:20260421T133813
CREATED:20250813T093649Z
LAST-MODIFIED:20250813T094359Z
UID:4378-1783900800-1787529599@www.vrijeschoolpeelland.nl
SUMMARY:Zomervakantie
DESCRIPTION:
URL:https://www.vrijeschoolpeelland.nl/event/zomervakantie-5/
END:VEVENT
END:VCALENDAR